BEGIN:VCALENDAR
VERSION:2.0
PRODID:-//Church in London Ontario - ECPv6.0.13.1//NONSGML v1.0//EN
CALSCALE:GREGORIAN
METHOD:PUBLISH
X-ORIGINAL-URL:https://victorychristiancentre.ca
X-WR-CALDESC:Events for Church in London Ontario
REFRESH-INTERVAL;VALUE=DURATION:PT1H
X-Robots-Tag:noindex
X-PUBLISHED-TTL:PT1H
BEGIN:VTIMEZONE
TZID:America/Toronto
BEGIN:DAYLIGHT
TZOFFSETFROM:-0500
TZOFFSETTO:-0400
TZNAME:EDT
DTSTART:20230312T070000
END:DAYLIGHT
BEGIN:STANDARD
TZOFFSETFROM:-0400
TZOFFSETTO:-0500
TZNAME:EST
DTSTART:20231105T060000
END:STANDARD
END:VTIMEZONE
BEGIN:VEVENT
DTSTART;TZID=America/Toronto:20230625T100000
DTEND;TZID=America/Toronto:20230625T113000
DTSTAMP:20260422T093555
CREATED:20230619T180122Z
LAST-MODIFIED:20230619T180122Z
UID:16517-1687687200-1687692600@victorychristiancentre.ca
SUMMARY:Special Guest Speaker: Jean-Paul Engler
DESCRIPTION:We are so excited to have Rev. Jean-Paul Engler with us on June 25th\, 2023! \nJean-Paul Engler has been in full time ministry since 1987. He’s been a blessing to the Body of Christ in more than forty nations of the world. He’s most appreciated for the clarity and timeliness of his message and is considered to be a clear prophetic voice to the Church today. \nHe is ordained under the ministry of Mark T. Barclay and is a member of the Righteous Preacher’s Network. \nHe’s the Founder and President of FSCO-Jean-Paul Engler Ministries\, as well as France based Trans Formation Ministries. He is also the representative of SMTI school to French-speaking countries.
URL:https://victorychristiancentre.ca/event/special-guest-speaker-jean-paul-engler/
LOCATION:Victory Christian Centre\, 104-4053 Meadowbrook Drive\,\, London\, Ontario\, N6L 1E8\, Canada
CATEGORIES:Special Guest
ATTACH;FMTTYPE=image/jpeg:https://victorychristiancentre.ca/wp-content/uploads/2023/06/307702653_398200929169203_8344493872100155996_n.jpeg
END:VEVENT
END:VCALENDAR