BEGIN:VCALENDAR
VERSION:2.0
PRODID:-//Church in London Ontario - ECPv6.0.13.1//NONSGML v1.0//EN
CALSCALE:GREGORIAN
METHOD:PUBLISH
X-ORIGINAL-URL:https://victorychristiancentre.ca
X-WR-CALDESC:Events for Church in London Ontario
REFRESH-INTERVAL;VALUE=DURATION:PT1H
X-Robots-Tag:noindex
X-PUBLISHED-TTL:PT1H
BEGIN:VTIMEZONE
TZID:America/Toronto
BEGIN:DAYLIGHT
TZOFFSETFROM:-0500
TZOFFSETTO:-0400
TZNAME:EDT
DTSTART:20230312T070000
END:DAYLIGHT
BEGIN:STANDARD
TZOFFSETFROM:-0400
TZOFFSETTO:-0500
TZNAME:EST
DTSTART:20231105T060000
END:STANDARD
END:VTIMEZONE
BEGIN:VEVENT
DTSTART;TZID=America/Toronto:20230423T100000
DTEND;TZID=America/Toronto:20230423T113000
DTSTAMP:20260421T041229
CREATED:20230411T152359Z
LAST-MODIFIED:20230411T152440Z
UID:16496-1682244000-1682249400@victorychristiancentre.ca
SUMMARY:Special Guest Speaker: Dr. Ingolf Schmidt
DESCRIPTION:Attention all! You are cordially invited to come hear Dr. Ingolf Schmidt speak on April 23\, 2023 at 10AM. Dr. Schmidt is a Christian minister from Leipzig\, Germany\, and the founder of Living Word Church Leipzig. His powerful messages have touched the hearts of countless individuals around the world\, and we are thrilled to have him grace us with his presence.  We look forward to seeing you there!
URL:https://victorychristiancentre.ca/event/special-guest-speaker-dr-ingolf-schmidt/
LOCATION:Victory Christian Centre\, 104-4053 Meadowbrook Drive\,\, London\, Ontario\, N6L 1E8\, Canada
CATEGORIES:General
ATTACH;FMTTYPE=image/jpeg:https://victorychristiancentre.ca/wp-content/uploads/2023/04/Dr_Ingolf_Schmidt_and_Angela_Schmidt.jpeg
END:VEVENT
BEGIN:VEVENT
DTSTART;TZID=America/Toronto:20230409T100000
DTEND;TZID=America/Toronto:20230409T113000
DTSTAMP:20260421T041229
CREATED:20220307T171612Z
LAST-MODIFIED:20230411T151148Z
UID:16044-1681034400-1681039800@victorychristiancentre.ca
SUMMARY:Easter Sunday
DESCRIPTION:Come and celebrate our risen king Jesus Christ on Easter Sunday! Easter is a celebration of God’s amazing love for us. He gave His only begotten son Jesus to die for us and was resurrected on the 3rd day.  We encourage you to invite someone to join us this Easter.
URL:https://victorychristiancentre.ca/event/easter-sunday/
LOCATION:Victory Christian Centre\, 104-4053 Meadowbrook Drive\,\, London\, Ontario\, N6L 1E8\, Canada
CATEGORIES:General
ATTACH;FMTTYPE=image/jpeg:https://victorychristiancentre.ca/wp-content/uploads/2022/03/emptythomb.jpg
END:VEVENT
BEGIN:VEVENT
DTSTART;TZID=America/Toronto:20230407T093000
DTEND;TZID=America/Toronto:20230407T103000
DTSTAMP:20260421T041229
CREATED:20220307T170521Z
LAST-MODIFIED:20230411T151229Z
UID:16041-1680859800-1680863400@victorychristiancentre.ca
SUMMARY:Good Friday Service
DESCRIPTION:Join us for our Good Friday service  as we commemorate the greatest sacrifice committed by our Lord Jesus Christ.
URL:https://victorychristiancentre.ca/event/good-friday-service/
LOCATION:Victory Christian Centre\, 104-4053 Meadowbrook Drive\,\, London\, Ontario\, N6L 1E8\, Canada
CATEGORIES:General
ATTACH;FMTTYPE=image/png:https://victorychristiancentre.ca/wp-content/uploads/2022/03/Screen-Shot-2022-03-07-at-12.02.05-PM.png
END:VEVENT
BEGIN:VEVENT
DTSTART;TZID=America/Toronto:20230305T100000
DTEND;TZID=America/Toronto:20230305T113000
DTSTAMP:20260421T041229
CREATED:20220307T172543Z
LAST-MODIFIED:20230411T151102Z
UID:16051-1678010400-1678015800@victorychristiancentre.ca
SUMMARY:Communion Service
DESCRIPTION:Jesus instructed His followers to take communion to remember the sacrifice He was going to make when He died for our sins on the cross (1 Corinthians 11:23-26).\nJoin us for communion service.
URL:https://victorychristiancentre.ca/event/communion-service-may/
LOCATION:Victory Christian Centre\, 104-4053 Meadowbrook Drive\,\, London\, Ontario\, N6L 1E8\, Canada
CATEGORIES:General
ATTACH;FMTTYPE=image/jpeg:https://victorychristiancentre.ca/wp-content/uploads/2022/03/Communion.jpeg
END:VEVENT
BEGIN:VEVENT
DTSTART;TZID=America/Toronto:20230205T100000
DTEND;TZID=America/Toronto:20230205T113000
DTSTAMP:20260421T041229
CREATED:20230409T140053Z
LAST-MODIFIED:20230411T151323Z
UID:16053-1675591200-1675596600@victorychristiancentre.ca
SUMMARY:Communion Service
DESCRIPTION:Jesus instructed His followers to take communion to remember the sacrifice He was going to make when He died for our sins on the cross (1 Corinthians 11:23-26).\nJoin us for communion service.
URL:https://victorychristiancentre.ca/event/communion-service-june/
LOCATION:Victory Christian Centre\, 104-4053 Meadowbrook Drive\,\, London\, Ontario\, N6L 1E8\, Canada
CATEGORIES:General
ATTACH;FMTTYPE=image/jpeg:https://victorychristiancentre.ca/wp-content/uploads/2022/03/Communion.jpeg
END:VEVENT
END:VCALENDAR